BEGIN:VCALENDAR
VERSION:2.0
PRODID:-//Meetup//Meetup Events v1.0//EN
CALSCALE:GREGORIAN
METHOD:PUBLISH
X-WR-CALNAME:Events - Health 2.0 Boston Chapter
X-MS-OLK-FORCEINSPECTOROPEN:TRUE
BEGIN:VTIMEZONE
TZID:America/New_York
X-LIC-LOCATION:America/New_York
BEGIN:DAYLIGHT
TZOFFSETFROM:-0500
TZOFFSETTO:-0400
TZNAME:EDT
DTSTART:19700308T020000
RRULE:FREQ=YEARLY;BYMONTH=3;BYDAY=2SU
END:DAYLIGHT
BEGIN:STANDARD
TZOFFSETFROM:-0400
TZOFFSETTO:-0500
TZNAME:EST
DTSTART:19701101T020000
RRULE:FREQ=YEARLY;BYMONTH=11;BYDAY=1SU
END:STANDARD
END:VTIMEZONE
BEGIN:VEVENT
DTSTAMP:20170811T002251Z
DTSTART;TZID=America/New_York:20170816T180000
DTEND;TZID=America/New_York:20170816T200000
STATUS:CONFIRMED
SUMMARY:Safeguarding Opioid Prescription through Technology & Innovation
DESCRIPTION:Health 2.0 Boston Chapter\nWednesday\, August 16 at 6:00 PM\n
 \nJoin us for a panel discussion with the CEO of e-prescribing platform\
 , DoseSpot\, and SVP of Customer Experience at healthcare IT security co
 mpany\, Imp...\n\nhttps://www.meetup.com/Health-2-0-Boston/events/240691
 051/
ORGANIZER;CN=Meetup Reminder:MAILTO:info@meetup.com
CLASS:PUBLIC
CREATED:20170610T164134Z
GEO:42.34;-71.06
LOCATION:MCPHS University\, Griffin Building\, Room 604 (179 Longwood Ave
 \, Boston\, MA)
URL:https://www.meetup.com/Health-2-0-Boston/events/240691051/
SEQUENCE:2
LAST-MODIFIED:20170610T164134Z
UID:event_240691051@meetup.com
END:VEVENT
END:VCALENDAR
